BEGIN:VCALENDAR
VERSION:2.0
PRODID:-//Jordan Wolfson - ECPv6.15.17//NONSGML v1.0//EN
CALSCALE:GREGORIAN
METHOD:PUBLISH
X-WR-CALNAME:Jordan Wolfson
X-ORIGINAL-URL:https://jordanwolfson.com
X-WR-CALDESC:Events for Jordan Wolfson
REFRESH-INTERVAL;VALUE=DURATION:PT1H
X-Robots-Tag:noindex
X-PUBLISHED-TTL:PT1H
BEGIN:VTIMEZONE
TZID:America/Denver
BEGIN:DAYLIGHT
TZOFFSETFROM:-0700
TZOFFSETTO:-0600
TZNAME:MDT
DTSTART:20250309T090000
END:DAYLIGHT
BEGIN:STANDARD
TZOFFSETFROM:-0600
TZOFFSETTO:-0700
TZNAME:MST
DTSTART:20251102T080000
END:STANDARD
BEGIN:DAYLIGHT
TZOFFSETFROM:-0700
TZOFFSETTO:-0600
TZNAME:MDT
DTSTART:20260308T090000
END:DAYLIGHT
BEGIN:STANDARD
TZOFFSETFROM:-0600
TZOFFSETTO:-0700
TZNAME:MST
DTSTART:20261101T080000
END:STANDARD
BEGIN:DAYLIGHT
TZOFFSETFROM:-0700
TZOFFSETTO:-0600
TZNAME:MDT
DTSTART:20270314T090000
END:DAYLIGHT
BEGIN:STANDARD
TZOFFSETFROM:-0600
TZOFFSETTO:-0700
TZNAME:MST
DTSTART:20271107T080000
END:STANDARD
END:VTIMEZONE
BEGIN:VEVENT
DTSTART;TZID=America/Denver:20260422T090000
DTEND;TZID=America/Denver:20260422T120000
DTSTAMP:20260421T191744
CREATED:20251101T210007Z
LAST-MODIFIED:20251101T213526Z
UID:18204-1776848400-1776859200@jordanwolfson.com
SUMMARY:PAINTING CLASSES in Boulder CO with Jordan Wolfson
DESCRIPTION:Join us for a morning of foundational oil painting skills! \nThis course is designed for all levels but particularly geared for beginners. \nThis ongoing course is designed to help students develop the fundamental tools and skills needed to draw and oil paint from life. Working from still life\, we learn how to translate what we see into convincing and successful depictions. Starting with basic drawing skills and developing a sense of proportion\, we move to shading and color. Working step-by-step we develop a thorough understanding of oil paint and how to use it. As our mastery develops\, spontaneous play becomes part of our repertoire. \nThe course is structured as an opportunity for ongoing development\, allowing each participant to work at their own pace and rhythm.  \nOne-on-one attention is given in a supportive\, creative\, “salon”-style atmosphere.   \nThe course is ongoing\, and registration is scheduled in 8-week blocks.   \nTuition for 8 weeks is $697.  Flexible pro-rating\, and a sliding scale\, is available upon request. \nFor registration please click HERE.
URL:https://jordanwolfson.com/calendar/painting-classes-in-boulder-co-with-jordan-wolfson/2026-04-22/
LOCATION:Jordan Wolfson’s Studio\, 4919 North Broadway\, Unit 16\, Boulder\, 80304\, United States
CATEGORIES:All Levels,Beginner,Classes,Events,Weekly
ATTACH;FMTTYPE=image/jpeg:https://jordanwolfson.com/wp-content/uploads/2025/11/IMG_20251022_112749-copy-scaled.jpg
END:VEVENT
BEGIN:VEVENT
DTSTART;TZID=America/Denver:20260422T090000
DTEND;TZID=America/Denver:20260422T120000
DTSTAMP:20260421T191744
CREATED:20260124T214041Z
LAST-MODIFIED:20260124T214041Z
UID:18380-1776848400-1776859200@jordanwolfson.com
SUMMARY:FOUNDATIONS\, Spring 2026\, in-studio/salon style
DESCRIPTION:Join us for a morning of foundational skills!  This 8-week section\, ongoing course is designed to help students develop the fundamental tools and skills needed to draw and oil paint from life. Working from still life\, we learn how to translate what we see into convincing and successful depictions. Starting with basic drawing skills and developing a sense of proportion\, we move to shading and color. Working step-by-step we develop a thorough understanding of oil paint and how to use it. As our mastery develops\, spontaneous play becomes part of our repertoire. \nThe course is structured as an opportunity for ongoing development\, allowing each participant to work at their own pace and rhythm.  \nOne-on-one attention is given in a supportive\, creative\, “salon”-style atmosphere. \n  \nTo register\, simply click on the “+” sign below.
URL:https://jordanwolfson.com/calendar/foundations-spring-2026-in-studio-salon-style/2026-04-22/
LOCATION:Jordan Wolfson’s Studio\, 4919 North Broadway\, Unit 16\, Boulder\, 80304\, United States
CATEGORIES:All Levels,Beginner,Classes,Events,Weekly
ATTACH;FMTTYPE=image/jpeg:https://jordanwolfson.com/wp-content/uploads/2022/08/image-2.jpg
END:VEVENT
BEGIN:VEVENT
DTSTART;TZID=America/Denver:20260427T140000
DTEND;TZID=America/Denver:20260427T170000
DTSTAMP:20260421T191744
CREATED:20240315T170014Z
LAST-MODIFIED:20260314T213342Z
UID:18266-1777298400-1777309200@jordanwolfson.com
SUMMARY:Mentoring & Individual Sessions
DESCRIPTION:  \nMentoring Programs are available through 6-month and 12-month commitments.  Limited Availability.  Details upon inquiry.\n\n  \n\nWeekly Meetings\, in-studio or zoom\, or in combination.\nGuidance to strengthen your painting\, both Formally – outwardly on the canvas\, as well as Internally – within you\, the maker.\nAssessment of where you are on your Painting Journey.\nClarifying and Strengthening your Individual Purpose and Intention.\nOngoing Reflections on what is occurring in the painting – what is working strongly and what is working less fully.\nReadings relevant to your Painting Engagement.\nFacilitation of a Focusing Process between you and your painting\, based on Inner Relational Focusing by Ann Weiser Cornell.\nEngaging with Spiritual and Emotional Dimensions of Creativity (e.g. Inner Critic\, Tolerating Uncertainty\, Expansive Non-dual Awareness).\nCoaching Options for Well Being\, and a Creative\, Expansive Life.\n\n  \nJordan is also available for individual critiques and personal studio one-hour sessions to help artists further their own vision and strengthen their work. Areas that may be addressed: portfolio development\, creative blocks\, readiness to move more deeply into the painting practice\, how to bring the work to full completion. Sessions may be held through Zoom or in Jordan’s studio in North Boulder.\n\n\n  \nIn addition to providing supportive responses to the studio work in the form of formal critique and suggestions\, Jordan is also available to work with aspects of our inner life in relation to our painting practice: \n\nQuestions of Meaning in the Work\nIntimacy and Alignment with Our Work\nCompositional Wholeness as an Inner Dimension\nKeeping Faith and Tolerating Uncertainty\nExperimentation and Risk Taking\nPerseverance\n\n\nCurrent and previous students are eligible to receive a 25% discount on each hour session.  Please purchase individual sessions separately from other purchases.\n\nFurther details and information concerning the individual sessions or mentoring are available upon inquiry.\n 
URL:https://jordanwolfson.com/calendar/individual-sessions-mentoring/2026-04-27/
LOCATION:The Painting Project Studio Online\, Mountain Time\, CO
CATEGORIES:All Levels,Classes,Events,Webinar,Weekly
ATTACH;FMTTYPE=image/jpeg:https://jordanwolfson.com/wp-content/uploads/2021/06/Jordan-Wolfson-2020-v2-copy.jpg
GEO:40.0637369;-105.2836586
END:VEVENT
BEGIN:VEVENT
DTSTART;TZID=America/Denver:20260428T090000
DTEND;TZID=America/Denver:20260428T110000
DTSTAMP:20260421T191744
CREATED:20260402T204024Z
LAST-MODIFIED:20260415T172928Z
UID:18425-1777366800-1777374000@jordanwolfson.com
SUMMARY:GROUP CRIT - Spring/Summer 2026\, online
DESCRIPTION:Meeting LIVE Online for 6 sessions\, every other Tuesday.\n \nApril 28\, May 12\, 26\, June 9\, 23\, and July 7. \nJordan will be facilitating a group critique for painters who are interested in exploring together deeper aspects of painting\, what it means for each of us to paint\, and how to strengthen our work\, both formally and internally. \nWhat makes a painting strong and imbues it with presence? \nHow does one clarify one’s own direction and path as a painter? \nHow can we share our work together and create a vital sense of community? \nFor many of us\, we paint because we need to.  There is something in the act of painting that deeply enlivens\, brings us close to truth of our lives – that in-the-moment sense of being present\, engaged\, alive.  There is the possibility of this deepening of engagement becoming our ongoing way of working\, and bringing to our studio practice a fullness of being that empowers our work\, formally and energetically.  How does this happen?  This question will be an ongoing part of our conversation during our sessions. \n  \n“Painting is impact.”  — Avigdor Arikha \n  \nIn a personal\, honest\, friendly and supportive atmosphere\, we will be gathering online for five sessions\, every other week.\n \nThe group will be limited to 12 participants.  Participants are expected to be engaged in their studio practice in an ongoing way\, and are intermediate\, advanced or professional. \nTo register simply click on the “+” sign below.
URL:https://jordanwolfson.com/calendar/group-crit-spring-summer-2026-online/2026-04-28/
LOCATION:The Painting Project Studio Online\, Mountain Time\, CO
CATEGORIES:Advanced,Classes,Events,Intermediate,Webinar,Weekly
ATTACH;FMTTYPE=image/jpeg:https://jordanwolfson.com/wp-content/uploads/2019/08/04.jpg
GEO:40.0637369;-105.2836586
END:VEVENT
BEGIN:VEVENT
DTSTART;TZID=America/Denver:20260429T090000
DTEND;TZID=America/Denver:20260429T120000
DTSTAMP:20260421T191744
CREATED:20251101T210007Z
LAST-MODIFIED:20251101T213527Z
UID:18205-1777453200-1777464000@jordanwolfson.com
SUMMARY:PAINTING CLASSES in Boulder CO with Jordan Wolfson
DESCRIPTION:Join us for a morning of foundational oil painting skills! \nThis course is designed for all levels but particularly geared for beginners. \nThis ongoing course is designed to help students develop the fundamental tools and skills needed to draw and oil paint from life. Working from still life\, we learn how to translate what we see into convincing and successful depictions. Starting with basic drawing skills and developing a sense of proportion\, we move to shading and color. Working step-by-step we develop a thorough understanding of oil paint and how to use it. As our mastery develops\, spontaneous play becomes part of our repertoire. \nThe course is structured as an opportunity for ongoing development\, allowing each participant to work at their own pace and rhythm.  \nOne-on-one attention is given in a supportive\, creative\, “salon”-style atmosphere.   \nThe course is ongoing\, and registration is scheduled in 8-week blocks.   \nTuition for 8 weeks is $697.  Flexible pro-rating\, and a sliding scale\, is available upon request. \nFor registration please click HERE.
URL:https://jordanwolfson.com/calendar/painting-classes-in-boulder-co-with-jordan-wolfson/2026-04-29/
LOCATION:Jordan Wolfson’s Studio\, 4919 North Broadway\, Unit 16\, Boulder\, 80304\, United States
CATEGORIES:All Levels,Beginner,Classes,Events,Weekly
ATTACH;FMTTYPE=image/jpeg:https://jordanwolfson.com/wp-content/uploads/2025/11/IMG_20251022_112749-copy-scaled.jpg
END:VEVENT
BEGIN:VEVENT
DTSTART;TZID=America/Denver:20260429T090000
DTEND;TZID=America/Denver:20260429T120000
DTSTAMP:20260421T191744
CREATED:20260402T204603Z
LAST-MODIFIED:20260410T174346Z
UID:18427-1777453200-1777464000@jordanwolfson.com
SUMMARY:FOUNDATIONS\, Spring/Summer 2026\, in-studio/salon style
DESCRIPTION:Join us for a morning of foundational skills!  This 8-week section\, ongoing course is designed to help students develop the fundamental tools and skills needed to draw and oil paint from life. Working from still life\, we learn how to translate what we see into convincing and successful depictions. Starting with basic drawing skills and developing a sense of proportion\, we move to shading and color. Working step-by-step we develop a thorough understanding of oil paint and how to use it. As our mastery develops\, spontaneous play becomes part of our repertoire. \nThe course is structured as an opportunity for ongoing development\, allowing each participant to work at their own pace and rhythm.  \nOne-on-one attention is given in a supportive\, creative\, “salon”-style atmosphere. \n  \nTo register\, simply click on the “+” sign below.
URL:https://jordanwolfson.com/calendar/foundations-late-spring-summer-2026-in-studio-salon-style/2026-04-29/
LOCATION:Jordan Wolfson’s Studio\, 4919 North Broadway\, Unit 16\, Boulder\, 80304\, United States
CATEGORIES:All Levels,Beginner,Classes,Events,Weekly
ATTACH;FMTTYPE=image/jpeg:https://jordanwolfson.com/wp-content/uploads/2022/08/image-2.jpg
END:VEVENT
BEGIN:VEVENT
DTSTART;TZID=America/Denver:20260429T140000
DTEND;TZID=America/Denver:20260429T163000
DTSTAMP:20260421T191744
CREATED:20260405T212057Z
LAST-MODIFIED:20260405T212057Z
UID:18451-1777471200-1777480200@jordanwolfson.com
SUMMARY:PAINTING FLOWERS IN A TIME OF TYRANNY - online
DESCRIPTION:Painting Flowers reawakens us to the preciousness of life!  It helps us regulate our nervous systems\, integrate\, realign\, and strengthen our resilience! \nHow does one paint a bunch of flowers and make THEM AND US ALIVE? Working in oils within the tradition of floral still life\, during this 8-week online course we’ll be working step-by-step\, and learning how to set up a convincing rendition of fresh flowers. \nIn the first 4 Weeks we will focus on clarity of form and color: \n\nWeek One will begin with drawing\, working with line. \nWeek Two will focus on values\, working with oils in black and white\, we’ll learn how our paint-handling\, the mark\, can work to create the form directly. \nWeeks Three and Four we’ll be working with tone and color mixing\, beginning with a straightforward rendition and gradually moving into more experimental and gestural marking.\nIn Part One we’ll look at the working methods of Manet\, Morisot\, Van Gogh\, and Albert York.\n\nDuring the second 4 Weeks we’ll try out more experimental and playful approaches. \n\nWeek Five will begin with drawing\, working in charcoal in a direct and gestural manner\, exploring space and form though mark and perception.\nWeek Six will continue the focus on black and white\, working with oils\, and exploring how experimentation and risk-taking can lead to unexpected results.\nWeeks Seven and Eight will work with color and the use of very heavy paint!\, as well as non-tonal color.\nDuring Part Two we’ll look at painters and their use of mark\, such as Joan Mitchell \, Chaim Soutine and Frank Auerbach.\n\nDuring each online session\, along with the demonstrations\, we’ll each be working in our studios and taking time to post to Padlet\, reviewing together\, sharing our process\, and getting constructive feedback. \nMaterials used in the demonstrations will be oil paint. Participants are welcome to use whichever materials are available and suitable for their at-home situation. \nA Mighty Networks Group page will be provided for posting our work during the week\, for constructive feedback\, and supportive community and creative sharing. Click HERE. \nAll sessions will be streamed in HIGH DEFINITION\, with 3 camera views\, providing greatly increased visual acuity of the painted surface and demonstrations. \nAll sessions will be recorded\, archived and available for repeated viewing. \nA Webinar Link will be sent out upon registration. \nTo register simply click on the “+” sign below.
URL:https://jordanwolfson.com/calendar/painting-flowers-in-a-time-of-tyranny-online/2026-04-29/
LOCATION:The Painting Project Studio Online\, Mountain Time\, CO
CATEGORIES:Advanced,Classes,Events,Intermediate,Webinar,Weekly
ATTACH;FMTTYPE=image/jpeg:https://jordanwolfson.com/wp-content/uploads/2026/02/Still-Life-with-Flowers-XXIX.jpg
GEO:40.0637369;-105.2836586
END:VEVENT
END:VCALENDAR